BEGIN:VCALENDAR
VERSION:2.0
PRODID:-//www.flchwcoalition.org//NONSGML kigkonsult.se iCalcreator 2.30.10
 //
CALSCALE:GREGORIAN
METHOD:PUBLISH
UID:aedfa155-9980-4013-ba0a-7bf58f4858b4
X-WR-CALDESC:Please join my meeting from your computer\, tablet or smartpho
 ne.\nhttps://global.gotomeeting.com/join/549769757\n\nYou can also dial in
  using your phone.\nUnited States: +1 (646) 749-3112\n\nAccess Code: 549-7
 69-757
X-WR-RELCALID:8c08af6e67908ba0c1cd6ec55425aff9
X-WR-TIMEZONE:America/New_York
BEGIN:VTIMEZONE
TZID:America/New_York
BEGIN:STANDARD
TZNAME:EST
DTSTART:20211107T020000
TZOFFSETFROM:-0400
TZOFFSETTO:-0500
RDATE:20221106T020000
RDATE:20231105T020000
END:STANDARD
BEGIN:DAYLIGHT
TZNAME:EDT
DTSTART:20220313T020000
TZOFFSETFROM:-0500
TZOFFSETTO:-0400
RDATE:20230312T020000
END:DAYLIGHT
END:VTIMEZONE
BEGIN:VEVENT
UID:662c03d9-82e8-4c47-8021-34ae65e915a8
DTSTAMP:20260421T102212Z
DESCRIPTION:Please join my meeting from your computer\, tablet or smartphon
 e.\nhttps://global.gotomeeting.com/join/549769757\n\nYou can also dial in 
 using your phone.\nUnited States: +1 (646) 749-3112\n\nAccess Code: 549-76
 9-757
DTSTART;TZID=America/New_York:20220817T150000
DTEND;TZID=America/New_York:20220817T160000
LOCATION:https://global.gotomeeting.com/join/549769757
SUMMARY:Networking & Communications Subgroup Meeting
END:VEVENT
END:VCALENDAR
