BEGIN:VCALENDAR
VERSION:2.0
PRODID:-//www.flchwcoalition.org//NONSGML kigkonsult.se iCalcreator 2.30.10
 //
CALSCALE:GREGORIAN
METHOD:PUBLISH
UID:db550464-0f3c-4539-bac4-5edb9234f726
X-WR-CALDESC:DescriptionUpon completion of this program\, participants will
  be able to:\n\n1. Identify at least two consequences that are unique to i
 ndividuals who smoke and have behavioral health concerns\n\n2. Identify at
  least two issues that require special attention for individuals with beha
 vioral health concerns trying to quit smoking\n\n3. Describe general appro
 aches to tobacco cessation
X-WR-RELCALID:b6e9a5f89586be20b822c07b216de427
X-WR-TIMEZONE:America/New_York
BEGIN:VTIMEZONE
TZID:America/New_York
BEGIN:STANDARD
TZNAME:EST
DTSTART:20221106T020000
TZOFFSETFROM:-0400
TZOFFSETTO:-0500
RDATE:20231105T020000
RDATE:20241103T020000
END:STANDARD
BEGIN:DAYLIGHT
TZNAME:EDT
DTSTART:20230312T020000
TZOFFSETFROM:-0500
TZOFFSETTO:-0400
RDATE:20240310T020000
RDATE:20250309T020000
END:DAYLIGHT
END:VTIMEZONE
BEGIN:VEVENT
UID:fb9fa2e3-4df0-4bdb-96b6-accfb0d3fa07
DTSTAMP:20260421T085702Z
DESCRIPTION:DescriptionUpon completion of this program\, participants will 
 be able to:\n\n1. Identify at least two consequences that are unique to in
 dividuals who smoke and have behavioral health concerns\n\n2. Identify at 
 least two issues that require special attention for individuals with behav
 ioral health concerns trying to quit smoking\n\n3. Describe general approa
 ches to tobacco cessation
DTSTART;TZID=America/New_York:20231011T090000
DTEND;TZID=America/New_York:20231011T100000
LOCATION:https://us02web.zoom.us/webinar/register/8816929906192/WN_mATekgiQ
 QVmXI3zFnyRGPA#/registration
SUMMARY:Addressing Tobacco Use in Behavioral Health
END:VEVENT
END:VCALENDAR
