BEGIN:VCALENDAR
VERSION:2.0
PRODID:-//www.flchwcoalition.org//NONSGML kigkonsult.se iCalcreator 2.30.10
 //
CALSCALE:GREGORIAN
METHOD:PUBLISH
UID:bc9d9af7-e398-4fa9-acf8-8bb2727b15eb
X-WR-CALDESC:
X-WR-RELCALID:565b83309dbee01f5b935d27a4d05766
X-WR-TIMEZONE:America/New_York
BEGIN:VTIMEZONE
TZID:America/New_York
BEGIN:STANDARD
TZNAME:EST
DTSTART:20221106T020000
TZOFFSETFROM:-0400
TZOFFSETTO:-0500
RDATE:20231105T020000
RDATE:20241103T020000
END:STANDARD
BEGIN:DAYLIGHT
TZNAME:EDT
DTSTART:20230312T020000
TZOFFSETFROM:-0500
TZOFFSETTO:-0400
RDATE:20240310T020000
RDATE:20250309T020000
END:DAYLIGHT
END:VTIMEZONE
BEGIN:VEVENT
UID:9c56773b-bc66-4a59-abca-ba52e1a6f1f0
DTSTAMP:20260421T090714Z
DESCRIPTION:
DTSTART;TZID=America/New_York:20231019T120000
DTEND;TZID=America/New_York:20231019T140000
LOCATION:https://mdahec.zoom.us/meeting/register/tZ0ude2uqzMvHNOWAAtaY1_hnp
 V_fsYYFPmb#/registration
SUMMARY:Mental and Behavioral Health Training for CHWs
END:VEVENT
END:VCALENDAR
