BEGIN:VCALENDAR
VERSION:2.0
PRODID:-//www.flchwcoalition.org//NONSGML kigkonsult.se iCalcreator 2.30.10
 //
CALSCALE:GREGORIAN
METHOD:PUBLISH
UID:805a183c-801a-456a-90fa-3ebd7ee64b8a
X-WR-CALDESC:The CCHW designation is an entry-level credential for front-li
 ne health workers who\, by virtue of their trusted status in the community
 \, serve as a liaison\, link and intermediary between health services and 
 the community to facilitate access to services and improve the quality and
  cultural competence of service delivery.\n\nExamples of job titles that a
 re Community Health Worker positions include but are not limited to Promot
 ores(as) de Salud\; Community Health Educator\; Health Communicator\; Outr
 each Worker\; or Health Advocate.\n\nCertification 101 Office Hours provid
 es individuals with an overview of the application process\, and resources
  to become recognized as a certified Community Health Worker.
X-WR-RELCALID:2a730f16a2aa81a2818b9dac038a721b
X-WR-TIMEZONE:America/New_York
BEGIN:VTIMEZONE
TZID:America/New_York
BEGIN:STANDARD
TZNAME:EST
DTSTART:20231105T020000
TZOFFSETFROM:-0400
TZOFFSETTO:-0500
RDATE:20241103T020000
RDATE:20251102T020000
END:STANDARD
BEGIN:DAYLIGHT
TZNAME:EDT
DTSTART:20240310T020000
TZOFFSETFROM:-0500
TZOFFSETTO:-0400
RDATE:20250309T020000
END:DAYLIGHT
END:VTIMEZONE
BEGIN:VEVENT
UID:4c8d132a-bff1-47e5-b218-8729eab4e7e5
DTSTAMP:20260421T101630Z
DESCRIPTION:The CCHW designation is an entry-level credential for front-lin
 e health workers who\, by virtue of their trusted status in the community\
 , serve as a liaison\, link and intermediary between health services and t
 he community to facilitate access to services and improve the quality and 
 cultural competence of service delivery.\n\nExamples of job titles that ar
 e Community Health Worker positions include but are not limited to Promoto
 res(as) de Salud\; Community Health Educator\; Health Communicator\; Outre
 ach Worker\; or Health Advocate.\n\nCertification 101 Office Hours provide
 s individuals with an overview of the application process\, and resources 
 to become recognized as a certified Community Health Worker.
DTSTART;TZID=America/New_York:20240517T120000
DTEND;TZID=America/New_York:20240517T120000
LOCATION:https://us02web.zoom.us/meeting/register/tZApf-iopzIiHN3_m4C8HMjOQ
 sxkjVki5yBH
SUMMARY:Certification 101 - Office Hours
END:VEVENT
END:VCALENDAR
