BEGIN:VCALENDAR
VERSION:2.0
PRODID:-//www.flchwcoalition.org//NONSGML kigkonsult.se iCalcreator 2.30.10
 //
CALSCALE:GREGORIAN
METHOD:PUBLISH
UID:c76fc507-e67a-4c53-aa08-ee1387a8b721
X-WR-CALDESC:The webinar offers participants an overview of the Certified C
 ommunity Health Worker (CCHW) standards and application requirements. The 
 overview covers the application and required components to complete the ap
 plication. \n\nThe CCHW designation is an entry-level credential for front
 -line public health workers who\, by virtue of their trusted status in the
  community\, serve as a liaison\, link and intermediary between health ser
 vices and the community to facilitate access to services and improve the q
 uality and cultural competence of service delivery.
X-WR-RELCALID:3e6d0bb6784f80de05252b30de212e1e
X-WR-TIMEZONE:America/New_York
BEGIN:VTIMEZONE
TZID:America/New_York
BEGIN:STANDARD
TZNAME:EST
DTSTART:20251102T020000
TZOFFSETFROM:-0400
TZOFFSETTO:-0500
RDATE:20261101T020000
RDATE:20271107T020000
END:STANDARD
BEGIN:DAYLIGHT
TZNAME:EDT
DTSTART:20260308T020000
TZOFFSETFROM:-0500
TZOFFSETTO:-0400
RDATE:20270314T020000
END:DAYLIGHT
END:VTIMEZONE
BEGIN:VEVENT
UID:53f88964-2e75-4443-85ea-f92e07c7d2e1
DTSTAMP:20260420T083340Z
DESCRIPTION:The webinar offers participants an overview of the Certified Co
 mmunity Health Worker (CCHW) standards and application requirements. The o
 verview covers the application and required components to complete the app
 lication. \n\nThe CCHW designation is an entry-level credential for front-
 line public health workers who\, by virtue of their trusted status in the 
 community\, serve as a liaison\, link and intermediary between health serv
 ices and the community to facilitate access to services and improve the qu
 ality and cultural competence of service delivery.
DTSTART;TZID=America/New_York:20260522T150000
DTEND;TZID=America/New_York:20260522T163000
LOCATION:https://us02web.zoom.us/webinar/register/WN_xr3zMqBZRL-1zGF-lreBNA
SUMMARY:Certified Community Health Worker (CCHW) Standards and Application 
 Requirements
END:VEVENT
END:VCALENDAR
